BEGIN:VCALENDAR
VERSION:2.0
PRODID:-//eventon.com NONSGML v1.0//EN
CALSCALE:GREGORIAN
METHOD:PUBLISH
BEGIN:VEVENT
UID:69e73c04be683
DTSTAMP:20260421T085740Z
DTSTART:20260603T193000Z
DTEND:20260624T213000Z
LOCATION:
SUMMARY:Saline: Training the Trainers
DESCRIPTION:Join us on for 4 Wednesday evenings during June (3\,  10\,  17 
 and 24) from 7.30-9.30pm If you have attended a full Saline course and are 
 inspired to become a  trainer. The trainers are Stephanie Moss\,  Viju Joh
 n\,  Pablo and Penny Fernandez. Each session focusses on a different  aspe
 ct of[..]\nhttps://www.cmf.org.uk/events/salinettt/
URL:https://www.cmf.org.uk/events/salinettt/
END:VEVENT
END:VCALENDAR